BEGIN:VCALENDAR
VERSION:2.0
PRODID:-//Plone.org//NONSGML plone.app.event//EN
X-WR-TIMEZONE:Europe/Berlin
BEGIN:VEVENT
SUMMARY:Mathematikmeisterschaft 3. Kl.
DTSTART;VALUE=DATE:20180425
DTEND;VALUE=DATE:20180426
DTSTAMP;VALUE=DATE-TIME:20260421T140814Z
UID:8ff0c53d788d4626b3bc262c992abadf
CREATED;VALUE=DATE-TIME:20180226T204841Z
LAST-MODIFIED;VALUE=DATE-TIME:20180226T205020Z
URL:https://www.edith-stein-schule-mm.de/events/mathematikmeisterschaft-3-
 kl
END:VEVENT
END:VCALENDAR
